BEGIN:VCALENDAR
VERSION:2.0
PRODID:-//wp-events-plugin.com//7.2.3.1//EN
BEGIN:VEVENT
UID:226@arbruisseau.com
DTSTART;TZID=Europe/Paris;VALUE=DATE:20220218
DTEND;TZID=Europe/Paris;VALUE=DATE:20220221
DTSTAMP:20211110T183256Z
URL:https://www.arbruisseau.com/events/transmissions-la-roue-medecine/
SUMMARY:Transmissions - "La Roue Medecine"
DESCRIPTION:Cycle de transmission pour développer une pratique chamanique 
 personnelle et autonome.
ATTACH;FMTTYPE=image/jpeg:https://www.arbruisseau.com/wp-content/uploads/2
 021/11/20211108_122526_0000.png
CATEGORIES:Ateliers, Stages et Retraites,Pratiques Chamaniques
LOCATION:Vernon\, rue de la Vallée\, Vernon\, 27200\, Normandie\, France
X-APPLE-STRUCTURED-LOCATION;VALUE=URI;X-ADDRESS=rue de la Vallée\, Vernon\
 , 27200\, Normandie\, France;X-APPLE-RADIUS=100;X-TITLE=Vernon:geo:0,0
END:VEVENT
BEGIN:VTIMEZONE
TZID:Europe/Paris
X-LIC-LOCATION:Europe/Paris
BEGIN:STANDARD
DTSTART:20211031T020000
TZOFFSETFROM:+0200
TZOFFSETTO:+0100
TZNAME:CET
END:STANDARD
END:VTIMEZONE
END:VCALENDAR