BEGIN:VCALENDAR
VERSION:2.0
PRODID:-//wp-events-plugin.com//7.2.3.1//EN
BEGIN:VEVENT
UID:170@arbruisseau.com
DTSTART;TZID=Europe/Paris:20201031T194500
DTEND;TZID=Europe/Paris:20201031T223000
DTSTAMP:20201011T011106Z
URL:https://www.arbruisseau.com/events/samhain-la-nouvelle-annee-3/
SUMMARY:SAMHAIN - La nouvelle année
DESCRIPTION:Soirée spéciale dans la merveilleuse énergie de Samain\, l'u
 n des Sabbat les plus importants de l'année.\nNous fêterons le passage v
 ers "l'Autre Monde"\, le monde Intérieur\, celui de l'introspection et de
  la rencontre avec Soi.\nC'est également la nouvelle année qui débute\,
  et pour laquelle nous allons préparer notre Terre intérieure.
ATTACH;FMTTYPE=image/jpeg:https://www.arbruisseau.com/wp-content/uploads/2
 020/08/20200831_195923_0000.png
CATEGORIES:Pratiques Chamaniques,Sabbats - Roue Celtique
LOCATION:Centre Wellfuz\, 1 rue Maurice Leblanc\, Croissy sur seine\, Franc
 e
X-APPLE-STRUCTURED-LOCATION;VALUE=URI;X-ADDRESS=1 rue Maurice Leblanc\, Cro
 issy sur seine\, France;X-APPLE-RADIUS=100;X-TITLE=Centre Wellfuz:geo:0,0
END:VEVENT
BEGIN:VTIMEZONE
TZID:Europe/Paris
X-LIC-LOCATION:Europe/Paris
BEGIN:STANDARD
DTSTART:20201025T020000
TZOFFSETFROM:+0200
TZOFFSETTO:+0100
TZNAME:CET
END:STANDARD
END:VTIMEZONE
END:VCALENDAR