BEGIN:VCALENDAR
VERSION:2.0
PRODID:-//wp-events-plugin.com//7.2.3.1//EN
BEGIN:VEVENT
UID:115@arbruisseau.com
DTSTART;TZID=Europe/Paris:20200308T100000
DTEND;TZID=Europe/Paris:20200308T183000
DTSTAMP:20200305T164946Z
URL:https://www.arbruisseau.com/events/reliance-des-femmes-pour-2020-chama
 nisme-et-danses/
SUMMARY:Reliance des Femmes - Chamanisme et Danses
DESCRIPTION:STAGE au féminin \n\n\nAu programme\, voyage chamanique\, cerc
 les de paroles\, danses\, chants...\n\nNous explorerons nos différentes p
 arts féminines\, avec le son\, le mouvement et le voyage chamanique\, exp
 lorer comment elles s’expriment en nous\, comment elles interagissent et
  comment elles évoluent: La Femme Sauvage\, La Mère et La Fille.
ATTACH;FMTTYPE=image/jpeg:https://www.arbruisseau.com/wp-content/uploads/2
 019/04/welcome-art-metisse-68.dng_-e1555159321250.jpg
CATEGORIES:Ateliers, Stages et Retraites,Danses,Féminin,Femmes en
 Mouvement,Invitation au Voyage Chamanique,Pratiques Chamaniques
LOCATION:Centre Wellfuz\, 1 rue Maurice Leblanc\, Croissy sur seine\, Franc
 e
X-APPLE-STRUCTURED-LOCATION;VALUE=URI;X-ADDRESS=1 rue Maurice Leblanc\, Cro
 issy sur seine\, France;X-APPLE-RADIUS=100;X-TITLE=Centre Wellfuz:geo:0,0
END:VEVENT
BEGIN:VTIMEZONE
TZID:Europe/Paris
X-LIC-LOCATION:Europe/Paris
BEGIN:STANDARD
DTSTART:20191027T020000
TZOFFSETFROM:+0200
TZOFFSETTO:+0100
TZNAME:CET
END:STANDARD
END:VTIMEZONE
END:VCALENDAR