BEGIN:VCALENDAR
VERSION:2.0
PRODID:-//wp-events-plugin.com//7.2.3.1//EN
BEGIN:VEVENT
UID:240@arbruisseau.com
DTSTART;TZID=Europe/Paris:20220319T184500
DTEND;TZID=Europe/Paris:20220319T223000
DTSTAMP:20220209T131022Z
URL:https://www.arbruisseau.com/events/ostara-equinoxe-de-printemps-3/
SUMMARY:OSTARA - Équinoxe de printemps
DESCRIPTION:Célébration chamanique pour Imbolc\n\nCérémonie chamanique\
 , danses intuitives\, voyage chamaniques
ATTACH;FMTTYPE=image/jpeg:https://www.arbruisseau.com/wp-content/uploads/2
 022/02/20220209_122350_0000.png
CATEGORIES:Danses,Danses libres mixtes,Pratiques Chamaniques,Sabbats -
 Roue Celtique
LOCATION:Centre Wellfuz\, 1 rue Maurice Leblanc\, Croissy sur seine\, Franc
 e
X-APPLE-STRUCTURED-LOCATION;VALUE=URI;X-ADDRESS=1 rue Maurice Leblanc\, Cro
 issy sur seine\, France;X-APPLE-RADIUS=100;X-TITLE=Centre Wellfuz:geo:0,0
END:VEVENT
BEGIN:VTIMEZONE
TZID:Europe/Paris
X-LIC-LOCATION:Europe/Paris
BEGIN:STANDARD
DTSTART:20211031T020000
TZOFFSETFROM:+0200
TZOFFSETTO:+0100
TZNAME:CET
END:STANDARD
END:VTIMEZONE
END:VCALENDAR