BEGIN:VCALENDAR
VERSION:2.0
PRODID:-//wp-events-plugin.com//7.2.3.1//EN
BEGIN:VEVENT
UID:214@arbruisseau.com
DTSTART;TZID=Europe/Paris:20210918T191500
DTEND;TZID=Europe/Paris:20210918T230000
DTSTAMP:20210908T121755Z
URL:https://www.arbruisseau.com/events/mabon-equinoxe-dautomne-4/
SUMMARY:MABON - Cérémonie chamanique pour l'équinoxe d'automne
DESCRIPTION:Mabon - célébration chamanique de l'equinoxe d'automne \nDans
 e intuitives\, cercle tambour\, voyage chamanique et célébration 
ATTACH;FMTTYPE=image/jpeg:https://www.arbruisseau.com/wp-content/uploads/2
 020/08/Miam-Pepin.png
CATEGORIES:Pratiques Chamaniques,Sabbats - Roue Celtique
LOCATION:Centre Wellfuz\, 1 rue Maurice Leblanc\, Croissy sur seine\, Franc
 e
X-APPLE-STRUCTURED-LOCATION;VALUE=URI;X-ADDRESS=1 rue Maurice Leblanc\, Cro
 issy sur seine\, France;X-APPLE-RADIUS=100;X-TITLE=Centre Wellfuz:geo:0,0
END:VEVENT
BEGIN:VTIMEZONE
TZID:Europe/Paris
X-LIC-LOCATION:Europe/Paris
BEGIN:DAYLIGHT
DTSTART:20210328T030000
TZOFFSETFROM:+0100
TZOFFSETTO:+0200
TZNAME:CEST
END:DAYLIGHT
END:VTIMEZONE
END:VCALENDAR