BEGIN:VCALENDAR
VERSION:2.0
PRODID:-//wp-events-plugin.com//7.2.3.1//EN
BEGIN:VEVENT
UID:359@arbruisseau.com
DTSTART:20240623T170000Z
DTEND:20240623T203000Z
DTSTAMP:20240611T131312Z
URL:https://www.arbruisseau.com/events/la-magie-des-lunes-un-voyage-sensit
 if-et-spirituel-5/
SUMMARY:La Magie des Lunes - Un voyage sensitif et spirituel
DESCRIPTION:Cercle spirituel et créatif de Pleine Lune.\nCérémonie du Ca
 cao\, cartomancie\, danse et création holistique.
ATTACH;FMTTYPE=image/jpeg:https://www.arbruisseau.com/wp-content/uploads/2
 024/01/La-Magie-des-Lunes.png
CATEGORIES:Ateliers, Stages et Retraites,Cérémonies du
 Cacao,Danses,Danses libres mixtes,Pratiques Chamaniques
LOCATION:Maison La Passiflore\, 25 rue Jean Doumerc\, Montauban\, 82000\, F
 rance
X-APPLE-STRUCTURED-LOCATION;VALUE=URI;X-ADDRESS=25 rue Jean Doumerc\, Monta
 uban\, 82000\, France;X-APPLE-RADIUS=100;X-TITLE=Maison La Passiflore:geo:
 0,0
END:VEVENT
END:VCALENDAR