BEGIN:VCALENDAR
VERSION:2.0
PRODID:-//wp-events-plugin.com//7.2.3.1//EN
BEGIN:VEVENT
UID:90@arbruisseau.com
DTSTART;TZID=Europe/Paris:20190929T100000
DTEND;TZID=Europe/Paris:20190929T180000
DTSTAMP:20231104T191531Z
URL:https://www.arbruisseau.com/events/invitation-au-voyage-chamanique-equ
 ilibrer-le-feminin-et-le-masculin-en-soi/
SUMMARY:Invitation au Voyage Chamanique - Equilibrer le féminin et le masc
 ulin en soi
DESCRIPTION:Pratique du voyage chamanique au son du tambour\n\nLa pratique 
 du voyage chamanique permet de travailler profondément sur soi et de mieu
 x comprendre et accepter certaines parts de soi. En voyageant dans les mon
 des subtils\, le praticien chamanique peut travailler avec ses guides\, se
 s animaux de pouvoirs et les esprits de la nature.\n\n\nChaque voyage se f
 era pour vous même et vers un mieux être\, les messages que vous recevre
 z seront des informations\, des aides\, des compréhensions sur votre vie\
 , vos ressentis ou vos interrogations du moment. Ils sont propres à vous\
 , à ce moment.
ATTACH;FMTTYPE=image/jpeg:https://www.arbruisseau.com/wp-content/uploads/2
 018/08/tambour.jpg
CATEGORIES:Ateliers, Stages et Retraites,Invitation au Voyage Chamanique
LOCATION:L'ArbRuisseau\, 14 rue Auguste Neveu\, Rueil Malmaison\, 92500\, F
 rance
X-APPLE-STRUCTURED-LOCATION;VALUE=URI;X-ADDRESS=14 rue Auguste Neveu\, Ruei
 l Malmaison\, 92500\, France;X-APPLE-RADIUS=100;X-TITLE=L'ArbRuisseau:geo:
 0,0
END:VEVENT
BEGIN:VTIMEZONE
TZID:Europe/Paris
X-LIC-LOCATION:Europe/Paris
BEGIN:DAYLIGHT
DTSTART:20190331T030000
TZOFFSETFROM:+0100
TZOFFSETTO:+0200
TZNAME:CEST
END:DAYLIGHT
END:VTIMEZONE
END:VCALENDAR