BEGIN:VCALENDAR
VERSION:2.0
PRODID:-//wp-events-plugin.com//7.2.3.1//EN
BEGIN:VEVENT
UID:117@arbruisseau.com
DTSTART;TZID=Europe/Paris:20200620T100000
DTEND;TZID=Europe/Paris:20200621T200000
DTSTAMP:20200405T174643Z
URL:https://www.arbruisseau.com/events/formation-reiki-usui-niveau-2-4/
SUMMARY:Report // Formation Reiki Usui - Niveau 2
DESCRIPTION:Le premier niveau de Reiki a sans doute déjà changé votre vi
 e sous certains aspects\, vous avez activé vos canaux de guérison et amo
 rcé une évolution personnelle\, plus ou moins subtile. Avec le deuxième
  niveau vous irez encore plus loin\, et vous allez découvrir des outils q
 ue vous pourrez utiliser au quotidien.\n\nCe stage de deuxième niveau per
 met d'accentuer le flux\, de canaliser l'énergie à travers le temps et l
 'espace\, de traiter le mental et l'émotionnel...\nDurant ces deux jours\
 , je vous initierai aux trois symboles et nous pratiquerons différentes t
 echniques pour apprendre à les utiliser.
CATEGORIES:Formation Reiki Usui,Pratique Reiki
LOCATION:L'ArbRuisseau\, 14 rue Auguste Neveu\, Rueil Malmaison\, 92500\, F
 rance
X-APPLE-STRUCTURED-LOCATION;VALUE=URI;X-ADDRESS=14 rue Auguste Neveu\, Ruei
 l Malmaison\, 92500\, France;X-APPLE-RADIUS=100;X-TITLE=L'ArbRuisseau:geo:
 0,0
END:VEVENT
BEGIN:VTIMEZONE
TZID:Europe/Paris
X-LIC-LOCATION:Europe/Paris
BEGIN:DAYLIGHT
DTSTART:20200329T030000
TZOFFSETFROM:+0100
TZOFFSETTO:+0200
TZNAME:CEST
END:DAYLIGHT
END:VTIMEZONE
END:VCALENDAR