BEGIN:VCALENDAR
VERSION:2.0
PRODID:-//wp-events-plugin.com//7.2.3.1//EN
BEGIN:VEVENT
UID:83@arbruisseau.com
DTSTART;TZID=Europe/Paris:20191019T100000
DTEND;TZID=Europe/Paris:20191019T200000
DTSTAMP:20190903T072834Z
URL:https://www.arbruisseau.com/events/formation-reiki-usui-niveau-1-4/
SUMMARY:Formation Reiki Usui - Niveau 1
DESCRIPTION:Nous avons tous en nous cette capacité à canaliser l'énergie
  de guérison entre nos mains. Mais elle est souvent faible ou nous l'avon
 s oubliée. L'Initiation pratiquée lors de ce premier niveau réactive ce
 tte capacité et permet à chacun de retrouver son pouvoir de guérison.\n
 \nLe premier niveau permet d'apprendre les techniques pour pratiquer sur s
 oi même et sur l'entourage\, quelque soit l'âge. Il est accessible à to
 us\, sans aucun prérequis. C'est aussi un moment particulier que vous vou
 s accordez\, pour votre propre évolution personnelle et votre mieux être
 .
CATEGORIES:Formation Reiki Usui
LOCATION:L'ArbRuisseau\, 14 rue Auguste Neveu\, Rueil Malmaison\, 92500\, F
 rance
X-APPLE-STRUCTURED-LOCATION;VALUE=URI;X-ADDRESS=14 rue Auguste Neveu\, Ruei
 l Malmaison\, 92500\, France;X-APPLE-RADIUS=100;X-TITLE=L'ArbRuisseau:geo:
 0,0
END:VEVENT
BEGIN:VTIMEZONE
TZID:Europe/Paris
X-LIC-LOCATION:Europe/Paris
BEGIN:DAYLIGHT
DTSTART:20190331T030000
TZOFFSETFROM:+0100
TZOFFSETTO:+0200
TZNAME:CEST
END:DAYLIGHT
END:VTIMEZONE
END:VCALENDAR