BEGIN:VCALENDAR
VERSION:2.0
PRODID:-//wp-events-plugin.com//7.2.3.1//EN
BEGIN:VEVENT
UID:134@arbruisseau.com
DTSTART;TZID=Europe/Paris;VALUE=DATE:20200404
DTEND;TZID=Europe/Paris;VALUE=DATE:20200406
DTSTAMP:20200405T174221Z
URL:https://www.arbruisseau.com/events/formation-danse-portage-module-1-be
 lgique/
SUMMARY:Report // Formation danse portage -  module 1 (Belgique)
DESCRIPTION:Formation en danse portage en Belgique  animée par Cécile Dah
 an et Céline Hereng Dubois
ATTACH;FMTTYPE=image/jpeg:https://www.arbruisseau.com/wp-content/uploads/2
 020/02/FORMATION-REPORTEE-AU-20-21-JUIN-2020.png
CATEGORIES:Danse Portage,Danses
END:VEVENT
BEGIN:VTIMEZONE
TZID:Europe/Paris
X-LIC-LOCATION:Europe/Paris
BEGIN:DAYLIGHT
DTSTART:20200329T030000
TZOFFSETFROM:+0100
TZOFFSETTO:+0200
TZNAME:CEST
END:DAYLIGHT
END:VTIMEZONE
END:VCALENDAR