BEGIN:VCALENDAR
VERSION:2.0
PRODID:-//wp-events-plugin.com//7.2.3.1//EN
BEGIN:VEVENT
UID:238@arbruisseau.com
DTSTART;TZID=Europe/Paris;VALUE=DATE:20220401
DTEND;TZID=Europe/Paris;VALUE=DATE:20220404
DTSTAMP:20231104T191651Z
URL:https://www.arbruisseau.com/events/fabrication-du-tambour-6/
SUMMARY:Fabrication du Tambour
DESCRIPTION:Stage résidentiel de fabrication d'un tambour en peau animal e
 t cadre de bois à Vernon en Normandie\nOuvert à toutes et à tous\, à p
 artir de 13 ans accompagné d'un adulte.\nAucun pré requis nécessaire\, 
 simplement ressentir un appel sincère vers son tambour.\n\n&nbsp\;\n\nCe 
 un week-end sera dédié à la création de votre tambour chamanique\, vot
 re lien sacré (ça crée) avec votre vibration. Avec cette lente  matér
 ialisation dans laquelle je vous guiderai\, je souhaite partager et transm
 ettre un cheminement qui m'a beaucoup apporté.\n\n&nbsp\;\n\nFabriquer so
 n tambour est un processus profond personnel et une expérience enrichissa
 nte\, parfois pas évidente\, mais souvent vibrante. Je vous accompagnerai
  dans la création d'un tambour simple et épuré\, que vous pourrez par l
 a suite personnaliser à mesure que votre lien avec avec lui se renforcera
 .\n\n&nbsp\;\n\n\n\n&nbsp\;\n\nLe programme de notre week end:\nLe vendred
 i soir après le repas que nous partagerons\, nous prendrons le temps de c
 réer notre cercle de travail et nous célébrerons  la fabrication de vo
 s tambours\, votre vibration du moment\, vos intentions.... Nous ferons un
 e première cérémonie autour du feu au cours de laquelle vous pourrez d
 éjà entrer en lien avec votre tambour en gestation.\nLe samedi matin vou
 s irez à la rencontre des peaux que j'aurais apportées\, et vous vous la
 isserez porter par l'appel que vous ressentirez.\nPuis vous ferez de même
  avec les cadres en bois (hêtre ou bouleau).\nNous prendrons ensuite le t
 emps d'une cérémonie pour entrer en lien profond avec votre cadre et vot
 re peau.\nEnsuite commencera concretemant la fabrication de vos tambours. 
 C'est un processus qui prend du temps\, je serai en présence pour chacune
  des étapes et vous aiderai concrètement si besoin. Chacun.e construira 
 son tambour à son rythme.\nLe soir en fonction de l'avancement de chacun\
 ,chacune\, nous nous rassemblerons pour une veillée au calme\, et dans l'
 énergie de votre tambour en gestation.\nLe dimanche\, quand les tambours 
 seront terminés\, nous partirons en forêt pour une marche méditative à
  la recherche de branches qui deviendront votre mailloche et votre hochet.
 \nEnfin\, vous pourrez commencer à décorer mailloche et tambour selon vo
 tre inspiration.\nNous terminerons notre journée par une dernière céré
 monie pour fermer notre cercle du week end et ouvrir la porte vers votre n
 ouvelle relation avec votre tambour.\n&nbsp\;\n\nLe temps sera comme suspe
 ndu\, ralenti. Notre attention pleine et entière sera dirigée vers les t
 ambours en train de se former\, et la résonance que cela peut avoir sur v
 ous même\n\nNB: A la fin du week end les tambours ne seront pas secs et i
 l vous faudra attendre encore quelques jours avant de pouvoir les faire r
 ésonner. Ce sera alors le temps d'une rencontre intime et vibrante que de
  l'entendre chanter pour la première fois.\n\nEn fonction des besoins du 
 groupe et des circonstances\, ce programme pourra être adapté.\n\n&nbsp\
 ;\n\n\n\n&nbsp\;\n\nCe dont vous aurez besoin pour ce stage:\n\n 	des cise
 aux qui coupent bien\n 	du papier de verre\n 	une bougie\n 	des chutes de 
 tissus\n 	des rubans ou de la laine\n 	vos objets sacrés\n 	un sac pour r
 epartir avec votre tambour protégé\n\n&nbsp\;\n\nLe lieu du stage:\n\nJe
  vous accueille à Vernon dans la maison familiale de mon amie.\nJ'aime pa
 rticulièrement organiser des stages dans ce lieu simple et accueillant\, 
 où nous pouvons à la fois vivre en communauté et avoir des espaces de s
 olitude si besoin. Nous aurons la possibilité de fabriquer vos tambours d
 ans le grand jardin ou en intérieur selon la météo.\nA proximité de la
  maison\, la forêt est facilement accessible et nous accueille pour nos m
 arches.\nLes repas seront des temps de repos\, d’échanges et de partage
 s. Nous pourrons préparer à manger tous ensemble dans la cuisine de la m
 aison. Je vous invite à apporter ce qui vous plait\, tout en privilégian
 t une nourriture saine et légère.\n&nbsp\;\n\n\n\n&nbsp\;\n\nLe nombre d
 e places est limité pour le confort de chacun.e (maximum 7 personnes).\n\
 n&nbsp\;\n\n&nbsp\;\n\nINFOS PRATIQUES\n\nDu Vendredi 1 avril  19h au Dim
 anche 3 avril  17h\n\nParticipation financière:\n\n350€ matériel\,  
 accompagnement\n60 € hébergement\nInscription validée après réceptio
 n d'un chèque d'acompte de 150 euros.\n\n&nbsp\;\n\nA Vernon en Normandie
 \n(rue de la Vallée)\nPossibilité de venir vous chercher à la gare de V
 ernon le vendredi en fin d'après midi.\n\n&nbsp\;\n\nRenseignements compl
 émentaires 0625282655\n\n&nbsp\;\n\n&nbsp\;
ATTACH;FMTTYPE=image/jpeg:https://www.arbruisseau.com/wp-content/uploads/2
 022/02/png_20220209_134044_0000.png
CATEGORIES:Ateliers, Stages et Retraites,Fabrication du Tambour,Invitation
 au Voyage Chamanique,Pratiques Chamaniques,Sabbats - Roue Celtique
LOCATION:Vernon\, rue de la Vallée\, Vernon\, 27200\, Normandie\, France
X-APPLE-STRUCTURED-LOCATION;VALUE=URI;X-ADDRESS=rue de la Vallée\, Vernon\
 , 27200\, Normandie\, France;X-APPLE-RADIUS=100;X-TITLE=Vernon:geo:0,0
END:VEVENT
BEGIN:VTIMEZONE
TZID:Europe/Paris
X-LIC-LOCATION:Europe/Paris
BEGIN:DAYLIGHT
DTSTART:20220327T030000
TZOFFSETFROM:+0100
TZOFFSETTO:+0200
TZNAME:CEST
END:DAYLIGHT
END:VTIMEZONE
END:VCALENDAR