BEGIN:VCALENDAR
VERSION:2.0
PRODID:-//wp-events-plugin.com//7.2.3.1//EN
BEGIN:VEVENT
UID:95@arbruisseau.com
DTSTART;TZID=Europe/Paris:20190927T200000
DTEND;TZID=Europe/Paris:20190927T220000
DTSTAMP:20190927T010308Z
URL:https://www.arbruisseau.com/events/danse-r-avec-danses-mixtes-creative
 s-et-spontanees-2/
SUMMARY:Danse/r Avec - Danses mixtes créatives et spontanées
DESCRIPTION:Une exploration de notre mouvement spontané et inné\, de notr
 e enthousiasme\, de nos intéractions.\nEn commençant par l’écoute de 
 nos ressentis corporels\, de notre posture\, puis par des propositions d
 ’expérimentations autour de 5 axes: Bercer\, Regarder\, Toucher\, Porte
 r\, Jouer.\n\nChacun à son rythme et à sa manière apporte sa couleur\, 
 son unicité\, et ensemble nous créons une mosaïque éphémère.
ATTACH;FMTTYPE=image/jpeg:https://www.arbruisseau.com/wp-content/uploads/2
 019/09/danse-avec.jpg
CATEGORIES:Danses libres mixtes
LOCATION:Centre artistique CréaLyre\, 1 rue des champs Roger\, Chatou\, 78
 400\, France
X-APPLE-STRUCTURED-LOCATION;VALUE=URI;X-ADDRESS=1 rue des champs Roger\, Ch
 atou\, 78400\, France;X-APPLE-RADIUS=100;X-TITLE=Centre artistique CréaLy
 re:geo:0,0
END:VEVENT
BEGIN:VTIMEZONE
TZID:Europe/Paris
X-LIC-LOCATION:Europe/Paris
BEGIN:DAYLIGHT
DTSTART:20190331T030000
TZOFFSETFROM:+0100
TZOFFSETTO:+0200
TZNAME:CEST
END:DAYLIGHT
END:VTIMEZONE
END:VCALENDAR