BEGIN:VCALENDAR
VERSION:2.0
PRODID:-//wp-events-plugin.com//7.2.3.1//EN
BEGIN:VEVENT
UID:283@arbruisseau.com
DTSTART;TZID=Europe/Paris:20230211T150000
DTEND;TZID=Europe/Paris:20230211T173000
DTSTAMP:20230124T233748Z
URL:https://www.arbruisseau.com/events/cocon-rebozo-3/
SUMMARY:Cocon & Rebozo
DESCRIPTION:Bercements et enveloppements avec le Rebozo\n
ATTACH;FMTTYPE=image/jpeg:https://www.arbruisseau.com/wp-content/uploads/2
 023/01/png_20230124_123202_0000.png
CATEGORIES:Danse Portage,Danses,De l'Hyper-sensibilité à
 l'Extra-sensorialité,Féminin,Relations Conscientes
LOCATION:Centre Wellfuz\, 1 rue Maurice Leblanc\, Croissy sur seine\, Franc
 e
X-APPLE-STRUCTURED-LOCATION;VALUE=URI;X-ADDRESS=1 rue Maurice Leblanc\, Cro
 issy sur seine\, France;X-APPLE-RADIUS=100;X-TITLE=Centre Wellfuz:geo:0,0
END:VEVENT
BEGIN:VTIMEZONE
TZID:Europe/Paris
X-LIC-LOCATION:Europe/Paris
BEGIN:STANDARD
DTSTART:20221030T020000
TZOFFSETFROM:+0200
TZOFFSETTO:+0100
TZNAME:CET
END:STANDARD
END:VTIMEZONE
END:VCALENDAR