BEGIN:VCALENDAR
VERSION:2.0
PRODID:-//wp-events-plugin.com//7.2.3.1//EN
BEGIN:VEVENT
UID:44@arbruisseau.com
DTSTART;TZID=Europe/Paris:20190402T194500
DTEND;TZID=Europe/Paris:20190402T220000
DTSTAMP:20190228T135048Z
URL:https://www.arbruisseau.com/events/cercle-de-femmes-de-la-nouvelle-lun
 e-8/
SUMMARY:Cercle de Femmes de la Nouvelle Lune
DESCRIPTION:Les cercles de Femmes de la Nouvelle Lune que je propose\, sont
  des espaces de co-évolution profonde et bienveillante pour les Femmes qu
 i se sentent appelées. \nEn suivant le rythme des cycles lunaires\, ils p
 ermettent un travail en profondeur et régulier sur Soi\, avec soi et entr
 e Femmes. \nChaque Cercle est différent\, porté par l'Energie du moment 
 et les Femmes présentes.
ATTACH;FMTTYPE=image/jpeg:https://www.arbruisseau.com/wp-content/uploads/2
 018/08/cercle-femmes-e1533391110815.jpg
CATEGORIES:Cercle de Femmes de la Nouvelle Lune
LOCATION:L'ArbRuisseau\, 14 rue Auguste Neveu\, Rueil Malmaison\, 92500\, F
 rance
X-APPLE-STRUCTURED-LOCATION;VALUE=URI;X-ADDRESS=14 rue Auguste Neveu\, Ruei
 l Malmaison\, 92500\, France;X-APPLE-RADIUS=100;X-TITLE=L'ArbRuisseau:geo:
 0,0
END:VEVENT
BEGIN:VTIMEZONE
TZID:Europe/Paris
X-LIC-LOCATION:Europe/Paris
BEGIN:DAYLIGHT
DTSTART:20190331T030000
TZOFFSETFROM:+0100
TZOFFSETTO:+0200
TZNAME:CEST
END:DAYLIGHT
END:VTIMEZONE
END:VCALENDAR