BEGIN:VCALENDAR
VERSION:2.0
PRODID:-//wp-events-plugin.com//7.2.3.1//EN
BEGIN:VEVENT
UID:418@arbruisseau.com
DTSTART;TZID=Europe/Paris:20250508T170000
DTEND;TZID=Europe/Paris:20250510T150000
DTSTAMP:20250421T154735Z
URL:https://www.arbruisseau.com/events/beltane-la-nuit-de-feu-mini-retrait
 e-celebration-chamanique-lunay-41/
SUMMARY:BELTANE\, La Nuit de Feu : Mini-Retraite\, Célébration Chamanique
  - Lunay (41)
DESCRIPTION:**Nuit Chamanique pour Beltane**\n \nCérémonie Chamanique\nRi
 tuel du Feu\nCérémonie Cacao\nCercle de Tambours\nBains Sonore\n
ATTACH;FMTTYPE=image/jpeg:https://www.arbruisseau.com/wp-content/uploads/2
 023/04/Beltane.jpg
CATEGORIES:Ateliers, Stages et Retraites,Cérémonie et Rituels,Danses
 libres mixtes,Le Creuset,Pratiques Chamaniques,Sabbats - Roue Celtique
LOCATION:La Thébaïde - Lunay (41)\, La Carte \, Lunay\, près de Vendôme
 \, 41360\, France
X-APPLE-STRUCTURED-LOCATION;VALUE=URI;X-ADDRESS=La Carte \, Lunay\, près d
 e Vendôme\, 41360\, France;X-APPLE-RADIUS=100;X-TITLE=La Thébaïde - Lun
 ay (41):geo:0,0
END:VEVENT
BEGIN:VTIMEZONE
TZID:Europe/Paris
X-LIC-LOCATION:Europe/Paris
BEGIN:DAYLIGHT
DTSTART:20250330T030000
TZOFFSETFROM:+0100
TZOFFSETTO:+0200
TZNAME:CEST
END:DAYLIGHT
END:VTIMEZONE
END:VCALENDAR